BEGIN:VCALENDAR
VERSION:2.0
PRODID:-//OneGov//onegov.event//
BEGIN:VEVENT
SUMMARY:Bewerben & Arbeiten | Fachpersonen von BIZ und RAV beantworten Ihr
 e Fragen
DTSTART:20260122T150000Z
DTEND:20260122T173000Z
DTSTAMP:20251210T142955Z
UID:bewerben-arbeiten-fachpersonen-von-biz-und-rav-beantworten-ihre-fragen
 -3-2026-01-22@onegov.event
CATEGORIES:Misc,Education
DESCRIPTION:Haben Sie sich schon länger nicht mehr beworben? Möchten Sie
  (wieder) arbeiten oder sich beruflich verändern? Sind Sie von Kündigung
  und Arbeitslosigkeit bedroht? Haben Sie Fragen zu Ihren Bewerbungsunterla
 gen oder generell zur Stellensuche? Möchten Sie individuelle Themen bespr
 echen?\n\nIn einem Kurzgespräch von maximal 30 Minuten können Sie sich i
 m BIZ austauschen. Für Sie da sind eine Laufbahnberaterin\, eine Personal
 beraterin oder ein Personalberater vom RAV und eine Informationsspezialist
 in. Wir unterstützen Sie bei Fragen zur Bewerbung\, zur Stellensuche\, zu
 m Vorstellungsgespräch und zu beruflichen sozialen Netzwerken. Weiter erh
 alten Sie Informationen zur Arbeitslosenversicherung und zum Vorgehen bei 
 Kündigung sowie Stellenwechsel.\n\nBringen Sie Ihr Dossier oder einen Lap
 top mit Ihren Unterlagen mit. Es ist ein öffentliches WLAN vorhanden.\n\n
 Eine Anmeldung ist nicht notwendig.
GEO:47.172483;8.516069
LAST-MODIFIED:20251210T142955Z
LOCATION:BIZ Berufsinformationszentrum\, Baarerstrasse 21\, 6300 Zug
URL:https://veranstaltungen.zug.ch/event/bewerben-arbeiten-fachpersonen-vo
 n-biz-und-rav-beantworten-ihre-fragen-3-2026-01-22
END:VEVENT
BEGIN:VEVENT
SUMMARY:Bewerben & Arbeiten | Fachpersonen von BIZ und RAV beantworten Ihr
 e Fragen
DTSTART:20260226T150000Z
DTEND:20260226T173000Z
DTSTAMP:20251210T142955Z
UID:bewerben-arbeiten-fachpersonen-von-biz-und-rav-beantworten-ihre-fragen
 -3-2026-02-26@onegov.event
CATEGORIES:Misc,Education
DESCRIPTION:Haben Sie sich schon länger nicht mehr beworben? Möchten Sie
  (wieder) arbeiten oder sich beruflich verändern? Sind Sie von Kündigung
  und Arbeitslosigkeit bedroht? Haben Sie Fragen zu Ihren Bewerbungsunterla
 gen oder generell zur Stellensuche? Möchten Sie individuelle Themen bespr
 echen?\n\nIn einem Kurzgespräch von maximal 30 Minuten können Sie sich i
 m BIZ austauschen. Für Sie da sind eine Laufbahnberaterin\, eine Personal
 beraterin oder ein Personalberater vom RAV und eine Informationsspezialist
 in. Wir unterstützen Sie bei Fragen zur Bewerbung\, zur Stellensuche\, zu
 m Vorstellungsgespräch und zu beruflichen sozialen Netzwerken. Weiter erh
 alten Sie Informationen zur Arbeitslosenversicherung und zum Vorgehen bei 
 Kündigung sowie Stellenwechsel.\n\nBringen Sie Ihr Dossier oder einen Lap
 top mit Ihren Unterlagen mit. Es ist ein öffentliches WLAN vorhanden.\n\n
 Eine Anmeldung ist nicht notwendig.
GEO:47.172483;8.516069
LAST-MODIFIED:20251210T142955Z
LOCATION:BIZ Berufsinformationszentrum\, Baarerstrasse 21\, 6300 Zug
URL:https://veranstaltungen.zug.ch/event/bewerben-arbeiten-fachpersonen-vo
 n-biz-und-rav-beantworten-ihre-fragen-3-2026-01-22
END:VEVENT
BEGIN:VEVENT
SUMMARY:Bewerben & Arbeiten | Fachpersonen von BIZ und RAV beantworten Ihr
 e Fragen
DTSTART:20260326T150000Z
DTEND:20260326T173000Z
DTSTAMP:20251210T142955Z
UID:bewerben-arbeiten-fachpersonen-von-biz-und-rav-beantworten-ihre-fragen
 -3-2026-03-26@onegov.event
CATEGORIES:Misc,Education
DESCRIPTION:Haben Sie sich schon länger nicht mehr beworben? Möchten Sie
  (wieder) arbeiten oder sich beruflich verändern? Sind Sie von Kündigung
  und Arbeitslosigkeit bedroht? Haben Sie Fragen zu Ihren Bewerbungsunterla
 gen oder generell zur Stellensuche? Möchten Sie individuelle Themen bespr
 echen?\n\nIn einem Kurzgespräch von maximal 30 Minuten können Sie sich i
 m BIZ austauschen. Für Sie da sind eine Laufbahnberaterin\, eine Personal
 beraterin oder ein Personalberater vom RAV und eine Informationsspezialist
 in. Wir unterstützen Sie bei Fragen zur Bewerbung\, zur Stellensuche\, zu
 m Vorstellungsgespräch und zu beruflichen sozialen Netzwerken. Weiter erh
 alten Sie Informationen zur Arbeitslosenversicherung und zum Vorgehen bei 
 Kündigung sowie Stellenwechsel.\n\nBringen Sie Ihr Dossier oder einen Lap
 top mit Ihren Unterlagen mit. Es ist ein öffentliches WLAN vorhanden.\n\n
 Eine Anmeldung ist nicht notwendig.
GEO:47.172483;8.516069
LAST-MODIFIED:20251210T142955Z
LOCATION:BIZ Berufsinformationszentrum\, Baarerstrasse 21\, 6300 Zug
URL:https://veranstaltungen.zug.ch/event/bewerben-arbeiten-fachpersonen-vo
 n-biz-und-rav-beantworten-ihre-fragen-3-2026-01-22
END:VEVENT
BEGIN:VEVENT
SUMMARY:Bewerben & Arbeiten | Fachpersonen von BIZ und RAV beantworten Ihr
 e Fragen
DTSTART:20260423T140000Z
DTEND:20260423T163000Z
DTSTAMP:20251210T142955Z
UID:bewerben-arbeiten-fachpersonen-von-biz-und-rav-beantworten-ihre-fragen
 -3-2026-04-23@onegov.event
CATEGORIES:Misc,Education
DESCRIPTION:Haben Sie sich schon länger nicht mehr beworben? Möchten Sie
  (wieder) arbeiten oder sich beruflich verändern? Sind Sie von Kündigung
  und Arbeitslosigkeit bedroht? Haben Sie Fragen zu Ihren Bewerbungsunterla
 gen oder generell zur Stellensuche? Möchten Sie individuelle Themen bespr
 echen?\n\nIn einem Kurzgespräch von maximal 30 Minuten können Sie sich i
 m BIZ austauschen. Für Sie da sind eine Laufbahnberaterin\, eine Personal
 beraterin oder ein Personalberater vom RAV und eine Informationsspezialist
 in. Wir unterstützen Sie bei Fragen zur Bewerbung\, zur Stellensuche\, zu
 m Vorstellungsgespräch und zu beruflichen sozialen Netzwerken. Weiter erh
 alten Sie Informationen zur Arbeitslosenversicherung und zum Vorgehen bei 
 Kündigung sowie Stellenwechsel.\n\nBringen Sie Ihr Dossier oder einen Lap
 top mit Ihren Unterlagen mit. Es ist ein öffentliches WLAN vorhanden.\n\n
 Eine Anmeldung ist nicht notwendig.
GEO:47.172483;8.516069
LAST-MODIFIED:20251210T142955Z
LOCATION:BIZ Berufsinformationszentrum\, Baarerstrasse 21\, 6300 Zug
URL:https://veranstaltungen.zug.ch/event/bewerben-arbeiten-fachpersonen-vo
 n-biz-und-rav-beantworten-ihre-fragen-3-2026-01-22
END:VEVENT
BEGIN:VEVENT
SUMMARY:Bewerben & Arbeiten | Fachpersonen von BIZ und RAV beantworten Ihr
 e Fragen
DTSTART:20260528T140000Z
DTEND:20260528T163000Z
DTSTAMP:20251210T142955Z
UID:bewerben-arbeiten-fachpersonen-von-biz-und-rav-beantworten-ihre-fragen
 -3-2026-05-28@onegov.event
CATEGORIES:Misc,Education
DESCRIPTION:Haben Sie sich schon länger nicht mehr beworben? Möchten Sie
  (wieder) arbeiten oder sich beruflich verändern? Sind Sie von Kündigung
  und Arbeitslosigkeit bedroht? Haben Sie Fragen zu Ihren Bewerbungsunterla
 gen oder generell zur Stellensuche? Möchten Sie individuelle Themen bespr
 echen?\n\nIn einem Kurzgespräch von maximal 30 Minuten können Sie sich i
 m BIZ austauschen. Für Sie da sind eine Laufbahnberaterin\, eine Personal
 beraterin oder ein Personalberater vom RAV und eine Informationsspezialist
 in. Wir unterstützen Sie bei Fragen zur Bewerbung\, zur Stellensuche\, zu
 m Vorstellungsgespräch und zu beruflichen sozialen Netzwerken. Weiter erh
 alten Sie Informationen zur Arbeitslosenversicherung und zum Vorgehen bei 
 Kündigung sowie Stellenwechsel.\n\nBringen Sie Ihr Dossier oder einen Lap
 top mit Ihren Unterlagen mit. Es ist ein öffentliches WLAN vorhanden.\n\n
 Eine Anmeldung ist nicht notwendig.
GEO:47.172483;8.516069
LAST-MODIFIED:20251210T142955Z
LOCATION:BIZ Berufsinformationszentrum\, Baarerstrasse 21\, 6300 Zug
URL:https://veranstaltungen.zug.ch/event/bewerben-arbeiten-fachpersonen-vo
 n-biz-und-rav-beantworten-ihre-fragen-3-2026-01-22
END:VEVENT
BEGIN:VEVENT
SUMMARY:Bewerben & Arbeiten | Fachpersonen von BIZ und RAV beantworten Ihr
 e Fragen
DTSTART:20260625T140000Z
DTEND:20260625T163000Z
DTSTAMP:20251210T142955Z
UID:bewerben-arbeiten-fachpersonen-von-biz-und-rav-beantworten-ihre-fragen
 -3-2026-06-25@onegov.event
CATEGORIES:Misc,Education
DESCRIPTION:Haben Sie sich schon länger nicht mehr beworben? Möchten Sie
  (wieder) arbeiten oder sich beruflich verändern? Sind Sie von Kündigung
  und Arbeitslosigkeit bedroht? Haben Sie Fragen zu Ihren Bewerbungsunterla
 gen oder generell zur Stellensuche? Möchten Sie individuelle Themen bespr
 echen?\n\nIn einem Kurzgespräch von maximal 30 Minuten können Sie sich i
 m BIZ austauschen. Für Sie da sind eine Laufbahnberaterin\, eine Personal
 beraterin oder ein Personalberater vom RAV und eine Informationsspezialist
 in. Wir unterstützen Sie bei Fragen zur Bewerbung\, zur Stellensuche\, zu
 m Vorstellungsgespräch und zu beruflichen sozialen Netzwerken. Weiter erh
 alten Sie Informationen zur Arbeitslosenversicherung und zum Vorgehen bei 
 Kündigung sowie Stellenwechsel.\n\nBringen Sie Ihr Dossier oder einen Lap
 top mit Ihren Unterlagen mit. Es ist ein öffentliches WLAN vorhanden.\n\n
 Eine Anmeldung ist nicht notwendig.
GEO:47.172483;8.516069
LAST-MODIFIED:20251210T142955Z
LOCATION:BIZ Berufsinformationszentrum\, Baarerstrasse 21\, 6300 Zug
URL:https://veranstaltungen.zug.ch/event/bewerben-arbeiten-fachpersonen-vo
 n-biz-und-rav-beantworten-ihre-fragen-3-2026-01-22
END:VEVENT
END:VCALENDAR
