BEGIN:VCALENDAR
VERSION:2.0
PRODID:-//OneGov//onegov.event//
BEGIN:VEVENT
SUMMARY:Club de lectura en español para niños entre 7 y 10 años
DTSTART:20260117T140000Z
DTEND:20260117T143000Z
DTSTAMP:20260105T103835Z
UID:club-de-lectura-en-espanol-para-ninos-entre-7-y-10-anos-4-2026-01-17@o
 negov.event
CATEGORIES:Misc,Literature
DESCRIPTION:¡Lecturas divertidas y aventuras en español para niños curi
 osos!\n\nCada mes leeremos un libro que elegiremos entre todos y\, unas se
 manas después nos reuniremos\, después del cuentacuentos en español\, p
 ara que los niños puedan debatir sobre lo que han leído. ¡Os esperamos!
 \n\nUn evento en colaboración con el Centro Español de Zug.\n\nInscripci
 ón: sin registro.\n\n
GEO:47.164529;8.515136
LAST-MODIFIED:20260105T103835Z
LOCATION:Bibliothek Zug\, St.-Oswalds-Gasse 21\, 6300 Zug
URL:https://veranstaltungen.zug.ch/event/club-de-lectura-en-espanol-para-n
 inos-entre-7-y-10-anos-4-2026-01-17
END:VEVENT
BEGIN:VEVENT
SUMMARY:Club de lectura en español para niños entre 7 y 10 años
DTSTART:20260221T140000Z
DTEND:20260221T143000Z
DTSTAMP:20260105T103835Z
UID:club-de-lectura-en-espanol-para-ninos-entre-7-y-10-anos-4-2026-02-21@o
 negov.event
CATEGORIES:Misc,Literature
DESCRIPTION:¡Lecturas divertidas y aventuras en español para niños curi
 osos!\n\nCada mes leeremos un libro que elegiremos entre todos y\, unas se
 manas después nos reuniremos\, después del cuentacuentos en español\, p
 ara que los niños puedan debatir sobre lo que han leído. ¡Os esperamos!
 \n\nUn evento en colaboración con el Centro Español de Zug.\n\nInscripci
 ón: sin registro.\n\n
GEO:47.164529;8.515136
LAST-MODIFIED:20260105T103835Z
LOCATION:Bibliothek Zug\, St.-Oswalds-Gasse 21\, 6300 Zug
URL:https://veranstaltungen.zug.ch/event/club-de-lectura-en-espanol-para-n
 inos-entre-7-y-10-anos-4-2026-01-17
END:VEVENT
BEGIN:VEVENT
SUMMARY:Club de lectura en español para niños entre 7 y 10 años
DTSTART:20260321T140000Z
DTEND:20260321T143000Z
DTSTAMP:20260105T103835Z
UID:club-de-lectura-en-espanol-para-ninos-entre-7-y-10-anos-4-2026-03-21@o
 negov.event
CATEGORIES:Misc,Literature
DESCRIPTION:¡Lecturas divertidas y aventuras en español para niños curi
 osos!\n\nCada mes leeremos un libro que elegiremos entre todos y\, unas se
 manas después nos reuniremos\, después del cuentacuentos en español\, p
 ara que los niños puedan debatir sobre lo que han leído. ¡Os esperamos!
 \n\nUn evento en colaboración con el Centro Español de Zug.\n\nInscripci
 ón: sin registro.\n\n
GEO:47.164529;8.515136
LAST-MODIFIED:20260105T103835Z
LOCATION:Bibliothek Zug\, St.-Oswalds-Gasse 21\, 6300 Zug
URL:https://veranstaltungen.zug.ch/event/club-de-lectura-en-espanol-para-n
 inos-entre-7-y-10-anos-4-2026-01-17
END:VEVENT
BEGIN:VEVENT
SUMMARY:Club de lectura en español para niños entre 7 y 10 años
DTSTART:20260502T130000Z
DTEND:20260502T133000Z
DTSTAMP:20260105T103835Z
UID:club-de-lectura-en-espanol-para-ninos-entre-7-y-10-anos-4-2026-05-02@o
 negov.event
CATEGORIES:Misc,Literature
DESCRIPTION:¡Lecturas divertidas y aventuras en español para niños curi
 osos!\n\nCada mes leeremos un libro que elegiremos entre todos y\, unas se
 manas después nos reuniremos\, después del cuentacuentos en español\, p
 ara que los niños puedan debatir sobre lo que han leído. ¡Os esperamos!
 \n\nUn evento en colaboración con el Centro Español de Zug.\n\nInscripci
 ón: sin registro.\n\n
GEO:47.164529;8.515136
LAST-MODIFIED:20260105T103835Z
LOCATION:Bibliothek Zug\, St.-Oswalds-Gasse 21\, 6300 Zug
URL:https://veranstaltungen.zug.ch/event/club-de-lectura-en-espanol-para-n
 inos-entre-7-y-10-anos-4-2026-01-17
END:VEVENT
BEGIN:VEVENT
SUMMARY:Club de lectura en español para niños entre 7 y 10 años
DTSTART:20260620T130000Z
DTEND:20260620T133000Z
DTSTAMP:20260105T103835Z
UID:club-de-lectura-en-espanol-para-ninos-entre-7-y-10-anos-4-2026-06-20@o
 negov.event
CATEGORIES:Misc,Literature
DESCRIPTION:¡Lecturas divertidas y aventuras en español para niños curi
 osos!\n\nCada mes leeremos un libro que elegiremos entre todos y\, unas se
 manas después nos reuniremos\, después del cuentacuentos en español\, p
 ara que los niños puedan debatir sobre lo que han leído. ¡Os esperamos!
 \n\nUn evento en colaboración con el Centro Español de Zug.\n\nInscripci
 ón: sin registro.\n\n
GEO:47.164529;8.515136
LAST-MODIFIED:20260105T103835Z
LOCATION:Bibliothek Zug\, St.-Oswalds-Gasse 21\, 6300 Zug
URL:https://veranstaltungen.zug.ch/event/club-de-lectura-en-espanol-para-n
 inos-entre-7-y-10-anos-4-2026-01-17
END:VEVENT
BEGIN:VEVENT
SUMMARY:Club de lectura en español para niños entre 7 y 10 años
DTSTART:20260912T130000Z
DTEND:20260912T133000Z
DTSTAMP:20260105T103835Z
UID:club-de-lectura-en-espanol-para-ninos-entre-7-y-10-anos-4-2026-09-12@o
 negov.event
CATEGORIES:Misc,Literature
DESCRIPTION:¡Lecturas divertidas y aventuras en español para niños curi
 osos!\n\nCada mes leeremos un libro que elegiremos entre todos y\, unas se
 manas después nos reuniremos\, después del cuentacuentos en español\, p
 ara que los niños puedan debatir sobre lo que han leído. ¡Os esperamos!
 \n\nUn evento en colaboración con el Centro Español de Zug.\n\nInscripci
 ón: sin registro.\n\n
GEO:47.164529;8.515136
LAST-MODIFIED:20260105T103835Z
LOCATION:Bibliothek Zug\, St.-Oswalds-Gasse 21\, 6300 Zug
URL:https://veranstaltungen.zug.ch/event/club-de-lectura-en-espanol-para-n
 inos-entre-7-y-10-anos-4-2026-01-17
END:VEVENT
BEGIN:VEVENT
SUMMARY:Club de lectura en español para niños entre 7 y 10 años
DTSTART:20261031T140000Z
DTEND:20261031T143000Z
DTSTAMP:20260105T103835Z
UID:club-de-lectura-en-espanol-para-ninos-entre-7-y-10-anos-4-2026-10-31@o
 negov.event
CATEGORIES:Misc,Literature
DESCRIPTION:¡Lecturas divertidas y aventuras en español para niños curi
 osos!\n\nCada mes leeremos un libro que elegiremos entre todos y\, unas se
 manas después nos reuniremos\, después del cuentacuentos en español\, p
 ara que los niños puedan debatir sobre lo que han leído. ¡Os esperamos!
 \n\nUn evento en colaboración con el Centro Español de Zug.\n\nInscripci
 ón: sin registro.\n\n
GEO:47.164529;8.515136
LAST-MODIFIED:20260105T103835Z
LOCATION:Bibliothek Zug\, St.-Oswalds-Gasse 21\, 6300 Zug
URL:https://veranstaltungen.zug.ch/event/club-de-lectura-en-espanol-para-n
 inos-entre-7-y-10-anos-4-2026-01-17
END:VEVENT
BEGIN:VEVENT
SUMMARY:Club de lectura en español para niños entre 7 y 10 años
DTSTART:20261128T140000Z
DTEND:20261128T143000Z
DTSTAMP:20260105T103835Z
UID:club-de-lectura-en-espanol-para-ninos-entre-7-y-10-anos-4-2026-11-28@o
 negov.event
CATEGORIES:Misc,Literature
DESCRIPTION:¡Lecturas divertidas y aventuras en español para niños curi
 osos!\n\nCada mes leeremos un libro que elegiremos entre todos y\, unas se
 manas después nos reuniremos\, después del cuentacuentos en español\, p
 ara que los niños puedan debatir sobre lo que han leído. ¡Os esperamos!
 \n\nUn evento en colaboración con el Centro Español de Zug.\n\nInscripci
 ón: sin registro.\n\n
GEO:47.164529;8.515136
LAST-MODIFIED:20260105T103835Z
LOCATION:Bibliothek Zug\, St.-Oswalds-Gasse 21\, 6300 Zug
URL:https://veranstaltungen.zug.ch/event/club-de-lectura-en-espanol-para-n
 inos-entre-7-y-10-anos-4-2026-01-17
END:VEVENT
BEGIN:VEVENT
SUMMARY:Club de lectura en español para niños entre 7 y 10 años
DTSTART:20261212T140000Z
DTEND:20261212T143000Z
DTSTAMP:20260105T103835Z
UID:club-de-lectura-en-espanol-para-ninos-entre-7-y-10-anos-4-2026-12-12@o
 negov.event
CATEGORIES:Misc,Literature
DESCRIPTION:¡Lecturas divertidas y aventuras en español para niños curi
 osos!\n\nCada mes leeremos un libro que elegiremos entre todos y\, unas se
 manas después nos reuniremos\, después del cuentacuentos en español\, p
 ara que los niños puedan debatir sobre lo que han leído. ¡Os esperamos!
 \n\nUn evento en colaboración con el Centro Español de Zug.\n\nInscripci
 ón: sin registro.\n\n
GEO:47.164529;8.515136
LAST-MODIFIED:20260105T103835Z
LOCATION:Bibliothek Zug\, St.-Oswalds-Gasse 21\, 6300 Zug
URL:https://veranstaltungen.zug.ch/event/club-de-lectura-en-espanol-para-n
 inos-entre-7-y-10-anos-4-2026-01-17
END:VEVENT
END:VCALENDAR
