BEGIN:VCALENDAR
VERSION:2.0
PRODID:-//OneGov//onegov.event//
BEGIN:VEVENT
SUMMARY:Cuentacuentos en lengua española
DTSTART:20260117T133000Z
DTEND:20260117T140000Z
DTSTAMP:20260105T103819Z
UID:cuentacuentos-en-lengua-espanola-5-2026-01-17@onegov.event
CATEGORIES:Misc,Literature
DESCRIPTION:Una encantadora tarde de cuentos en español para toda la fami
 lia.\n\nLa biblioteca de Zug\, en colaboración con el grupo de cuentacuen
 tos «Colorín Colorado» y el Centro Español de Zug\, os invita a una ta
 rde de cuentos en lengua española para pequeños y grandes.\n\nEdad: +3 a
 ños acompañados de un adulto.\n\nParticipación: entrada libre.  \n\nIns
 cripción: sin inscripción.\n\nUn evento en colaboración con el grupo de
  cuentacuentos «Colorín Colorado» y el Centro Español de Zug.\n\n\n
GEO:47.164529;8.515136
LAST-MODIFIED:20260105T103819Z
LOCATION:Bibliothek Zug\, St.-Oswalds-Gasse 21\, 6300 Zug
URL:https://veranstaltungen.zug.ch/event/cuentacuentos-en-lengua-espanola-
 5-2026-01-17
END:VEVENT
BEGIN:VEVENT
SUMMARY:Cuentacuentos en lengua española
DTSTART:20260221T133000Z
DTEND:20260221T140000Z
DTSTAMP:20260105T103819Z
UID:cuentacuentos-en-lengua-espanola-5-2026-02-21@onegov.event
CATEGORIES:Misc,Literature
DESCRIPTION:Una encantadora tarde de cuentos en español para toda la fami
 lia.\n\nLa biblioteca de Zug\, en colaboración con el grupo de cuentacuen
 tos «Colorín Colorado» y el Centro Español de Zug\, os invita a una ta
 rde de cuentos en lengua española para pequeños y grandes.\n\nEdad: +3 a
 ños acompañados de un adulto.\n\nParticipación: entrada libre.  \n\nIns
 cripción: sin inscripción.\n\nUn evento en colaboración con el grupo de
  cuentacuentos «Colorín Colorado» y el Centro Español de Zug.\n\n\n
GEO:47.164529;8.515136
LAST-MODIFIED:20260105T103819Z
LOCATION:Bibliothek Zug\, St.-Oswalds-Gasse 21\, 6300 Zug
URL:https://veranstaltungen.zug.ch/event/cuentacuentos-en-lengua-espanola-
 5-2026-01-17
END:VEVENT
BEGIN:VEVENT
SUMMARY:Cuentacuentos en lengua española
DTSTART:20260321T133000Z
DTEND:20260321T140000Z
DTSTAMP:20260105T103819Z
UID:cuentacuentos-en-lengua-espanola-5-2026-03-21@onegov.event
CATEGORIES:Misc,Literature
DESCRIPTION:Una encantadora tarde de cuentos en español para toda la fami
 lia.\n\nLa biblioteca de Zug\, en colaboración con el grupo de cuentacuen
 tos «Colorín Colorado» y el Centro Español de Zug\, os invita a una ta
 rde de cuentos en lengua española para pequeños y grandes.\n\nEdad: +3 a
 ños acompañados de un adulto.\n\nParticipación: entrada libre.  \n\nIns
 cripción: sin inscripción.\n\nUn evento en colaboración con el grupo de
  cuentacuentos «Colorín Colorado» y el Centro Español de Zug.\n\n\n
GEO:47.164529;8.515136
LAST-MODIFIED:20260105T103819Z
LOCATION:Bibliothek Zug\, St.-Oswalds-Gasse 21\, 6300 Zug
URL:https://veranstaltungen.zug.ch/event/cuentacuentos-en-lengua-espanola-
 5-2026-01-17
END:VEVENT
BEGIN:VEVENT
SUMMARY:Cuentacuentos en lengua española
DTSTART:20260502T123000Z
DTEND:20260502T130000Z
DTSTAMP:20260105T103819Z
UID:cuentacuentos-en-lengua-espanola-5-2026-05-02@onegov.event
CATEGORIES:Misc,Literature
DESCRIPTION:Una encantadora tarde de cuentos en español para toda la fami
 lia.\n\nLa biblioteca de Zug\, en colaboración con el grupo de cuentacuen
 tos «Colorín Colorado» y el Centro Español de Zug\, os invita a una ta
 rde de cuentos en lengua española para pequeños y grandes.\n\nEdad: +3 a
 ños acompañados de un adulto.\n\nParticipación: entrada libre.  \n\nIns
 cripción: sin inscripción.\n\nUn evento en colaboración con el grupo de
  cuentacuentos «Colorín Colorado» y el Centro Español de Zug.\n\n\n
GEO:47.164529;8.515136
LAST-MODIFIED:20260105T103819Z
LOCATION:Bibliothek Zug\, St.-Oswalds-Gasse 21\, 6300 Zug
URL:https://veranstaltungen.zug.ch/event/cuentacuentos-en-lengua-espanola-
 5-2026-01-17
END:VEVENT
BEGIN:VEVENT
SUMMARY:Cuentacuentos en lengua española
DTSTART:20260912T123000Z
DTEND:20260912T130000Z
DTSTAMP:20260105T103819Z
UID:cuentacuentos-en-lengua-espanola-5-2026-09-12@onegov.event
CATEGORIES:Misc,Literature
DESCRIPTION:Una encantadora tarde de cuentos en español para toda la fami
 lia.\n\nLa biblioteca de Zug\, en colaboración con el grupo de cuentacuen
 tos «Colorín Colorado» y el Centro Español de Zug\, os invita a una ta
 rde de cuentos en lengua española para pequeños y grandes.\n\nEdad: +3 a
 ños acompañados de un adulto.\n\nParticipación: entrada libre.  \n\nIns
 cripción: sin inscripción.\n\nUn evento en colaboración con el grupo de
  cuentacuentos «Colorín Colorado» y el Centro Español de Zug.\n\n\n
GEO:47.164529;8.515136
LAST-MODIFIED:20260105T103819Z
LOCATION:Bibliothek Zug\, St.-Oswalds-Gasse 21\, 6300 Zug
URL:https://veranstaltungen.zug.ch/event/cuentacuentos-en-lengua-espanola-
 5-2026-01-17
END:VEVENT
BEGIN:VEVENT
SUMMARY:Cuentacuentos en lengua española
DTSTART:20261031T133000Z
DTEND:20261031T140000Z
DTSTAMP:20260105T103819Z
UID:cuentacuentos-en-lengua-espanola-5-2026-10-31@onegov.event
CATEGORIES:Misc,Literature
DESCRIPTION:Una encantadora tarde de cuentos en español para toda la fami
 lia.\n\nLa biblioteca de Zug\, en colaboración con el grupo de cuentacuen
 tos «Colorín Colorado» y el Centro Español de Zug\, os invita a una ta
 rde de cuentos en lengua española para pequeños y grandes.\n\nEdad: +3 a
 ños acompañados de un adulto.\n\nParticipación: entrada libre.  \n\nIns
 cripción: sin inscripción.\n\nUn evento en colaboración con el grupo de
  cuentacuentos «Colorín Colorado» y el Centro Español de Zug.\n\n\n
GEO:47.164529;8.515136
LAST-MODIFIED:20260105T103819Z
LOCATION:Bibliothek Zug\, St.-Oswalds-Gasse 21\, 6300 Zug
URL:https://veranstaltungen.zug.ch/event/cuentacuentos-en-lengua-espanola-
 5-2026-01-17
END:VEVENT
BEGIN:VEVENT
SUMMARY:Cuentacuentos en lengua española
DTSTART:20261128T133000Z
DTEND:20261128T140000Z
DTSTAMP:20260105T103819Z
UID:cuentacuentos-en-lengua-espanola-5-2026-11-28@onegov.event
CATEGORIES:Misc,Literature
DESCRIPTION:Una encantadora tarde de cuentos en español para toda la fami
 lia.\n\nLa biblioteca de Zug\, en colaboración con el grupo de cuentacuen
 tos «Colorín Colorado» y el Centro Español de Zug\, os invita a una ta
 rde de cuentos en lengua española para pequeños y grandes.\n\nEdad: +3 a
 ños acompañados de un adulto.\n\nParticipación: entrada libre.  \n\nIns
 cripción: sin inscripción.\n\nUn evento en colaboración con el grupo de
  cuentacuentos «Colorín Colorado» y el Centro Español de Zug.\n\n\n
GEO:47.164529;8.515136
LAST-MODIFIED:20260105T103819Z
LOCATION:Bibliothek Zug\, St.-Oswalds-Gasse 21\, 6300 Zug
URL:https://veranstaltungen.zug.ch/event/cuentacuentos-en-lengua-espanola-
 5-2026-01-17
END:VEVENT
END:VCALENDAR
