BEGIN:VCALENDAR
VERSION:2.0
PRODID:-//OneGov//onegov.event//
BEGIN:VEVENT
SUMMARY:Geschichtenzeit
DTSTART:20260201T090000Z
DTEND:20260201T093000Z
DTSTAMP:20260105T103924Z
UID:geschichtenzeit-9-2026-02-01@onegov.event
CATEGORIES:Misc,Literature
DESCRIPTION:Wir erzählen Geschichten für kleine und grosse Zuhörerinnen
  und Zuhörer ab 4 Jahren.\n\nEs gibt für Kinder kaum etwas Schöneres\, 
 als einer Geschichte zu lauschen. Das Vorlesen fördert ausserdem die Krea
 tivität und sprachliche Entwicklung der Kinder.\n\nUm pünktliches Ersche
 inen wird gebeten.\n\nTeilnahme: kostenlos.\n\nOhne Anmeldung.\n
GEO:47.164529;8.515136
LAST-MODIFIED:20260105T103924Z
LOCATION:Bibliothek Zug\, St.-Oswalds-Gasse 21\, 6300 Zug
URL:https://veranstaltungen.zug.ch/event/geschichtenzeit-9-2026-02-01
END:VEVENT
BEGIN:VEVENT
SUMMARY:Geschichtenzeit
DTSTART:20260301T090000Z
DTEND:20260301T093000Z
DTSTAMP:20260105T103924Z
UID:geschichtenzeit-9-2026-03-01@onegov.event
CATEGORIES:Misc,Literature
DESCRIPTION:Wir erzählen Geschichten für kleine und grosse Zuhörerinnen
  und Zuhörer ab 4 Jahren.\n\nEs gibt für Kinder kaum etwas Schöneres\, 
 als einer Geschichte zu lauschen. Das Vorlesen fördert ausserdem die Krea
 tivität und sprachliche Entwicklung der Kinder.\n\nUm pünktliches Ersche
 inen wird gebeten.\n\nTeilnahme: kostenlos.\n\nOhne Anmeldung.\n
GEO:47.164529;8.515136
LAST-MODIFIED:20260105T103924Z
LOCATION:Bibliothek Zug\, St.-Oswalds-Gasse 21\, 6300 Zug
URL:https://veranstaltungen.zug.ch/event/geschichtenzeit-9-2026-02-01
END:VEVENT
BEGIN:VEVENT
SUMMARY:Geschichtenzeit
DTSTART:20260503T080000Z
DTEND:20260503T083000Z
DTSTAMP:20260105T103924Z
UID:geschichtenzeit-9-2026-05-03@onegov.event
CATEGORIES:Misc,Literature
DESCRIPTION:Wir erzählen Geschichten für kleine und grosse Zuhörerinnen
  und Zuhörer ab 4 Jahren.\n\nEs gibt für Kinder kaum etwas Schöneres\, 
 als einer Geschichte zu lauschen. Das Vorlesen fördert ausserdem die Krea
 tivität und sprachliche Entwicklung der Kinder.\n\nUm pünktliches Ersche
 inen wird gebeten.\n\nTeilnahme: kostenlos.\n\nOhne Anmeldung.\n
GEO:47.164529;8.515136
LAST-MODIFIED:20260105T103924Z
LOCATION:Bibliothek Zug\, St.-Oswalds-Gasse 21\, 6300 Zug
URL:https://veranstaltungen.zug.ch/event/geschichtenzeit-9-2026-02-01
END:VEVENT
BEGIN:VEVENT
SUMMARY:Geschichtenzeit
DTSTART:20260906T080000Z
DTEND:20260906T083000Z
DTSTAMP:20260105T103924Z
UID:geschichtenzeit-9-2026-09-06@onegov.event
CATEGORIES:Misc,Literature
DESCRIPTION:Wir erzählen Geschichten für kleine und grosse Zuhörerinnen
  und Zuhörer ab 4 Jahren.\n\nEs gibt für Kinder kaum etwas Schöneres\, 
 als einer Geschichte zu lauschen. Das Vorlesen fördert ausserdem die Krea
 tivität und sprachliche Entwicklung der Kinder.\n\nUm pünktliches Ersche
 inen wird gebeten.\n\nTeilnahme: kostenlos.\n\nOhne Anmeldung.\n
GEO:47.164529;8.515136
LAST-MODIFIED:20260105T103924Z
LOCATION:Bibliothek Zug\, St.-Oswalds-Gasse 21\, 6300 Zug
URL:https://veranstaltungen.zug.ch/event/geschichtenzeit-9-2026-02-01
END:VEVENT
BEGIN:VEVENT
SUMMARY:Geschichtenzeit
DTSTART:20261004T080000Z
DTEND:20261004T083000Z
DTSTAMP:20260105T103924Z
UID:geschichtenzeit-9-2026-10-04@onegov.event
CATEGORIES:Misc,Literature
DESCRIPTION:Wir erzählen Geschichten für kleine und grosse Zuhörerinnen
  und Zuhörer ab 4 Jahren.\n\nEs gibt für Kinder kaum etwas Schöneres\, 
 als einer Geschichte zu lauschen. Das Vorlesen fördert ausserdem die Krea
 tivität und sprachliche Entwicklung der Kinder.\n\nUm pünktliches Ersche
 inen wird gebeten.\n\nTeilnahme: kostenlos.\n\nOhne Anmeldung.\n
GEO:47.164529;8.515136
LAST-MODIFIED:20260105T103924Z
LOCATION:Bibliothek Zug\, St.-Oswalds-Gasse 21\, 6300 Zug
URL:https://veranstaltungen.zug.ch/event/geschichtenzeit-9-2026-02-01
END:VEVENT
BEGIN:VEVENT
SUMMARY:Geschichtenzeit
DTSTART:20261108T090000Z
DTEND:20261108T093000Z
DTSTAMP:20260105T103924Z
UID:geschichtenzeit-9-2026-11-08@onegov.event
CATEGORIES:Misc,Literature
DESCRIPTION:Wir erzählen Geschichten für kleine und grosse Zuhörerinnen
  und Zuhörer ab 4 Jahren.\n\nEs gibt für Kinder kaum etwas Schöneres\, 
 als einer Geschichte zu lauschen. Das Vorlesen fördert ausserdem die Krea
 tivität und sprachliche Entwicklung der Kinder.\n\nUm pünktliches Ersche
 inen wird gebeten.\n\nTeilnahme: kostenlos.\n\nOhne Anmeldung.\n
GEO:47.164529;8.515136
LAST-MODIFIED:20260105T103924Z
LOCATION:Bibliothek Zug\, St.-Oswalds-Gasse 21\, 6300 Zug
URL:https://veranstaltungen.zug.ch/event/geschichtenzeit-9-2026-02-01
END:VEVENT
END:VCALENDAR
