BEGIN:VCALENDAR
VERSION:2.0
PRODID:-//OneGov//onegov.event//
BEGIN:VEVENT
SUMMARY:Runder Tisch – interkulturelle Gespräche in deutscher Sprache
DTSTART:20260316T173000Z
DTEND:20260316T193000Z
DTSTAMP:20260316T153454Z
UID:runder-tisch-interkulturelle-gespraeche-in-deutscher-sprache-9-2026-03
 -16@onegov.event
CATEGORIES:Library,Literature
DESCRIPTION:Am «Runden Tisch» begegnen sich Menschen aller Kulturen\, um
  sich auf Deutsch auszutauschen. Unter kundiger Moderation entsteht ein Or
 t zum Staunen und Lernen. Ab Niveau B1 sind alle Interessierten\, auch Ein
 heimische\, zur gegenseitigen Sprach- und Wissensförderung willkommen.\n\
 nModeration: Heike Haiberger\n\nMehr Informationen: sprache@frwzg.ch\, 076
  761 74 46\n\nIn Zusammenarbeit mit FRW Interkultureller Dialog.\n\nTeilna
 hme: kostenlos\n\nWeitere Info: Anmeldung: ohne Anmeldung
GEO:47.164529;8.515136
LAST-MODIFIED:20260316T153454Z
LOCATION:Bibliothek Zug\, St.-Oswalds-Gasse 21\, 6300 Zug
URL:https://veranstaltungen.zug.ch/event/runder-tisch-interkulturelle-gesp
 raeche-in-deutscher-sprache-9-2026-03-16
END:VEVENT
BEGIN:VEVENT
SUMMARY:Runder Tisch – interkulturelle Gespräche in deutscher Sprache
DTSTART:20260323T173000Z
DTEND:20260323T193000Z
DTSTAMP:20260316T153454Z
UID:runder-tisch-interkulturelle-gespraeche-in-deutscher-sprache-9-2026-03
 -23@onegov.event
CATEGORIES:Library,Literature
DESCRIPTION:Am «Runden Tisch» begegnen sich Menschen aller Kulturen\, um
  sich auf Deutsch auszutauschen. Unter kundiger Moderation entsteht ein Or
 t zum Staunen und Lernen. Ab Niveau B1 sind alle Interessierten\, auch Ein
 heimische\, zur gegenseitigen Sprach- und Wissensförderung willkommen.\n\
 nModeration: Heike Haiberger\n\nMehr Informationen: sprache@frwzg.ch\, 076
  761 74 46\n\nIn Zusammenarbeit mit FRW Interkultureller Dialog.\n\nTeilna
 hme: kostenlos\n\nWeitere Info: Anmeldung: ohne Anmeldung
GEO:47.164529;8.515136
LAST-MODIFIED:20260316T153454Z
LOCATION:Bibliothek Zug\, St.-Oswalds-Gasse 21\, 6300 Zug
URL:https://veranstaltungen.zug.ch/event/runder-tisch-interkulturelle-gesp
 raeche-in-deutscher-sprache-9-2026-03-16
END:VEVENT
BEGIN:VEVENT
SUMMARY:Runder Tisch – interkulturelle Gespräche in deutscher Sprache
DTSTART:20260330T163000Z
DTEND:20260330T183000Z
DTSTAMP:20260316T153454Z
UID:runder-tisch-interkulturelle-gespraeche-in-deutscher-sprache-9-2026-03
 -30@onegov.event
CATEGORIES:Library,Literature
DESCRIPTION:Am «Runden Tisch» begegnen sich Menschen aller Kulturen\, um
  sich auf Deutsch auszutauschen. Unter kundiger Moderation entsteht ein Or
 t zum Staunen und Lernen. Ab Niveau B1 sind alle Interessierten\, auch Ein
 heimische\, zur gegenseitigen Sprach- und Wissensförderung willkommen.\n\
 nModeration: Heike Haiberger\n\nMehr Informationen: sprache@frwzg.ch\, 076
  761 74 46\n\nIn Zusammenarbeit mit FRW Interkultureller Dialog.\n\nTeilna
 hme: kostenlos\n\nWeitere Info: Anmeldung: ohne Anmeldung
GEO:47.164529;8.515136
LAST-MODIFIED:20260316T153454Z
LOCATION:Bibliothek Zug\, St.-Oswalds-Gasse 21\, 6300 Zug
URL:https://veranstaltungen.zug.ch/event/runder-tisch-interkulturelle-gesp
 raeche-in-deutscher-sprache-9-2026-03-16
END:VEVENT
BEGIN:VEVENT
SUMMARY:Runder Tisch – interkulturelle Gespräche in deutscher Sprache
DTSTART:20260413T163000Z
DTEND:20260413T183000Z
DTSTAMP:20260316T153454Z
UID:runder-tisch-interkulturelle-gespraeche-in-deutscher-sprache-9-2026-04
 -13@onegov.event
CATEGORIES:Library,Literature
DESCRIPTION:Am «Runden Tisch» begegnen sich Menschen aller Kulturen\, um
  sich auf Deutsch auszutauschen. Unter kundiger Moderation entsteht ein Or
 t zum Staunen und Lernen. Ab Niveau B1 sind alle Interessierten\, auch Ein
 heimische\, zur gegenseitigen Sprach- und Wissensförderung willkommen.\n\
 nModeration: Heike Haiberger\n\nMehr Informationen: sprache@frwzg.ch\, 076
  761 74 46\n\nIn Zusammenarbeit mit FRW Interkultureller Dialog.\n\nTeilna
 hme: kostenlos\n\nWeitere Info: Anmeldung: ohne Anmeldung
GEO:47.164529;8.515136
LAST-MODIFIED:20260316T153454Z
LOCATION:Bibliothek Zug\, St.-Oswalds-Gasse 21\, 6300 Zug
URL:https://veranstaltungen.zug.ch/event/runder-tisch-interkulturelle-gesp
 raeche-in-deutscher-sprache-9-2026-03-16
END:VEVENT
BEGIN:VEVENT
SUMMARY:Runder Tisch – interkulturelle Gespräche in deutscher Sprache
DTSTART:20260420T163000Z
DTEND:20260420T183000Z
DTSTAMP:20260316T153454Z
UID:runder-tisch-interkulturelle-gespraeche-in-deutscher-sprache-9-2026-04
 -20@onegov.event
CATEGORIES:Library,Literature
DESCRIPTION:Am «Runden Tisch» begegnen sich Menschen aller Kulturen\, um
  sich auf Deutsch auszutauschen. Unter kundiger Moderation entsteht ein Or
 t zum Staunen und Lernen. Ab Niveau B1 sind alle Interessierten\, auch Ein
 heimische\, zur gegenseitigen Sprach- und Wissensförderung willkommen.\n\
 nModeration: Heike Haiberger\n\nMehr Informationen: sprache@frwzg.ch\, 076
  761 74 46\n\nIn Zusammenarbeit mit FRW Interkultureller Dialog.\n\nTeilna
 hme: kostenlos\n\nWeitere Info: Anmeldung: ohne Anmeldung
GEO:47.164529;8.515136
LAST-MODIFIED:20260316T153454Z
LOCATION:Bibliothek Zug\, St.-Oswalds-Gasse 21\, 6300 Zug
URL:https://veranstaltungen.zug.ch/event/runder-tisch-interkulturelle-gesp
 raeche-in-deutscher-sprache-9-2026-03-16
END:VEVENT
BEGIN:VEVENT
SUMMARY:Runder Tisch – interkulturelle Gespräche in deutscher Sprache
DTSTART:20260427T163000Z
DTEND:20260427T183000Z
DTSTAMP:20260316T153454Z
UID:runder-tisch-interkulturelle-gespraeche-in-deutscher-sprache-9-2026-04
 -27@onegov.event
CATEGORIES:Library,Literature
DESCRIPTION:Am «Runden Tisch» begegnen sich Menschen aller Kulturen\, um
  sich auf Deutsch auszutauschen. Unter kundiger Moderation entsteht ein Or
 t zum Staunen und Lernen. Ab Niveau B1 sind alle Interessierten\, auch Ein
 heimische\, zur gegenseitigen Sprach- und Wissensförderung willkommen.\n\
 nModeration: Heike Haiberger\n\nMehr Informationen: sprache@frwzg.ch\, 076
  761 74 46\n\nIn Zusammenarbeit mit FRW Interkultureller Dialog.\n\nTeilna
 hme: kostenlos\n\nWeitere Info: Anmeldung: ohne Anmeldung
GEO:47.164529;8.515136
LAST-MODIFIED:20260316T153454Z
LOCATION:Bibliothek Zug\, St.-Oswalds-Gasse 21\, 6300 Zug
URL:https://veranstaltungen.zug.ch/event/runder-tisch-interkulturelle-gesp
 raeche-in-deutscher-sprache-9-2026-03-16
END:VEVENT
BEGIN:VEVENT
SUMMARY:Runder Tisch – interkulturelle Gespräche in deutscher Sprache
DTSTART:20260504T163000Z
DTEND:20260504T183000Z
DTSTAMP:20260316T153454Z
UID:runder-tisch-interkulturelle-gespraeche-in-deutscher-sprache-9-2026-05
 -04@onegov.event
CATEGORIES:Library,Literature
DESCRIPTION:Am «Runden Tisch» begegnen sich Menschen aller Kulturen\, um
  sich auf Deutsch auszutauschen. Unter kundiger Moderation entsteht ein Or
 t zum Staunen und Lernen. Ab Niveau B1 sind alle Interessierten\, auch Ein
 heimische\, zur gegenseitigen Sprach- und Wissensförderung willkommen.\n\
 nModeration: Heike Haiberger\n\nMehr Informationen: sprache@frwzg.ch\, 076
  761 74 46\n\nIn Zusammenarbeit mit FRW Interkultureller Dialog.\n\nTeilna
 hme: kostenlos\n\nWeitere Info: Anmeldung: ohne Anmeldung
GEO:47.164529;8.515136
LAST-MODIFIED:20260316T153454Z
LOCATION:Bibliothek Zug\, St.-Oswalds-Gasse 21\, 6300 Zug
URL:https://veranstaltungen.zug.ch/event/runder-tisch-interkulturelle-gesp
 raeche-in-deutscher-sprache-9-2026-03-16
END:VEVENT
END:VCALENDAR
