BEGIN:VCALENDAR
VERSION:2.0
PRODID:-//OneGov//onegov.event//
BEGIN:VEVENT
SUMMARY:2. Zuger Inklusive Landsgemeinde
DTSTART:20260618T150000Z
DTEND:20260618T170000Z
DTSTAMP:20260408T070214Z
UID:2-zuger-inklusive-landsgemeinde-2026-06-18@onegov.event
CATEGORIES:Politics
DESCRIPTION:Bei der 2. Zuger Inklusiven Landsgemeinde am 18. Juni 2026 zum
  Thema "Arbeit" kommen Menschen mit Behinderungen und Mitglieder des Kanto
 nsrats ins Gespräch.\n\nArbeit im Fokus\, Inklusion im Zentrum\n\nAktuell
  laufen die Workshops zur Vorbereitung der Inklusiven Landsgemeinde. Auch 
 Interessierte\, die keinen Workshop besucht haben\, sind herzlich eingelad
 en\, als Gäste teilzunehmen.\n\nBitte melden Sie sich per E-Mail als Gast
  bei Benno Stäheli (benno@conclood.ch) oder Heidi Giger (adelheid.giger@z
 g.ch) an. Vielen Dank.\n\nInklusive Landsgemeinde im Kantonsratssaal des R
 egierungsgebäudes\nDatum: Donnerstag\, 18. Juni 2026\nZeit: 17.00–19.00
  Uhr mit anschliessendem Apéro\nTüröffnung für angemeldete Gäste: ab 
 16.45 Uhr\n\nWir freuen uns auf Ihre Teilnahme und den gemeinsamen Austaus
 ch für eine inklusive Zukunft.
GEO:47.167851;8.5149
LAST-MODIFIED:20260408T070214Z
LOCATION:Regierungsgebäude Zug\, Kantonsratssaal
URL:https://veranstaltungen.zug.ch/event/2-zuger-inklusive-landsgemeinde-2
 026-06-18
END:VEVENT
END:VCALENDAR
