BEGIN:VCALENDAR
VERSION:2.0
PRODID:-//OneGov//onegov.event//
BEGIN:VEVENT
SUMMARY:Ausstellung im Dialog
DTSTART:20260430T160000Z
DTEND:20260430T170000Z
DTSTAMP:20251211T095757Z
UID:ausstellung-im-dialog-3-2026-04-30@onegov.event
CATEGORIES:Misc,Culture
DESCRIPTION:Diverse Führungen durch die Sonderausstellung «hûs\, stat\,
  fëld – Mittelalter in der Zentralschweiz» mit Spezialisten.\n\n06.12.
 2025: Ausstellung im Dialog «Mittelalterliche Funde bergen\, konservieren
  und ausstellen». Eine dialogische Führung mit Myriam Kärvas\, Leiterin
  Bildung & Vermittlung\, und Maria Ellend Wittwer\, Konservatorin-Restaura
 torin\, Amt für Archäologie und Denkmalpflege Kanton Zug.\n\n30.04.2026:
  Ausstellung im Dialog «Spurensuche». Eine dialogische Führung mit Myri
 am Kärvas\, Leiterin Bildung & Vermittlung\, und Claudia Löcker\, M.A.\,
  Archäologin\, Amt für Archäologie und Denkmalpflege Kanton Zug.\n\n04.
 10.2026: Ausstellung im Dialog «Burgleben». Eine dialogische Führung mi
 t Myriam Kärvas\, Leiterin Bildung & Vermittlung\, und Dr. phil. Gabi Mei
 er Mohamed\, Archäologin\, Amt für Archäologie und Denkmalpflege Kanton
  Zug.
GEO:47.165091;8.51666
LAST-MODIFIED:20251211T095757Z
LOCATION:Museum Burg Zug\, Kirchenstrasse 11\, 6300  Zug
URL:https://veranstaltungen.zug.ch/event/ausstellung-im-dialog-3-2026-04-3
 0
END:VEVENT
END:VCALENDAR
