BEGIN:VCALENDAR
VERSION:2.0
PRODID:-//OneGov//onegov.event//
BEGIN:VEVENT
SUMMARY:Chilbi ABGESAGT
DTSTART:20201017T220000Z
DTEND:20201018T215900Z
DTSTAMP:20200828T123621Z
UID:chilbi-2020-10-17@onegov.event
CATEGORIES:Market,Tradition,Gastronomy
DESCRIPTION:Lassen Sie sich kulinarisch verwöhnen. Benützen sie die Gele
 genheit Freunde und Verwandte an der Chilbi zu treffen.\n\nDies bereits am
  Samstagnachmittag ab 14.00 Uhr (Freifahrt ab 14.00 - 14.15 Uhr). Am Sonnt
 ag straten wir um 11.00 Uhr . Vom Samstag auf Sonntag und vom Sonntag auf 
 Montag FREINACH¨!
LAST-MODIFIED:20200828T123621Z
LOCATION:Rathausplatz\, Alte Landstrasse\, 6313 Menzingen
URL:https://veranstaltungen.zug.ch/event/chilbi-2020-10-17
END:VEVENT
END:VCALENDAR
