BEGIN:VCALENDAR
VERSION:2.0
PRODID:-//OneGov//onegov.event//
BEGIN:VEVENT
SUMMARY:Chilbimarkt 2021
DTSTART:20211017T090000Z
DTEND:20211018T000000Z
DTSTAMP:20210929T140308Z
UID:chilbimarkt-2021-2021-10-17@onegov.event
CATEGORIES:Market,Meetup,Tourism,Tradition
DESCRIPTION:Wenn auch nicht im gewohnten Rahmen wird in Menzingen dennoch 
 eine Chilbi durchgeführt! Besser gesagt einen Chilbimarkt. Eigentliche Ch
 ilbibahnen fehlen zwar. Unsere Ortsvereine bieten aber für jung und alt b
 ekannte Attraktionen an. Auch ein Kinderkarussell wird betrieben. \nViele 
 der bisherigen Marktfahrer sind mit dabei und bieten ihre typischen Chilbi
 produkte an. Zusammen mit den Vereinen können Sie am Sonntag von 11.00 Uh
 r bis Montagmorgen 02.00 Uhr die Chilbi geniessen und sich auch kulinarisc
 h verwöhnen lassen. \nWir freuen uns schon jetzt\, dass Sie mit dabei sin
 d und unsere Vereine und Marktfahrer mir Ihrer Konsumation unterstützen. 
 \n\nCovid-Schutzvorgaben: \nEs gilt auf dem ganzen Areal die Hygiene- und 
 Abstandsvorschriften des Bundesamtes für Gesundheit einzuhalten. Die spez
 ifischen Vorgaben\, welche an den Eingängen zur Chilbi publiziert sind\, 
 sind zu beachten.  
GEO:47.17799433924806;8.589892333859638
LAST-MODIFIED:20210929T140308Z
LOCATION:Alte Landstrasse 2\, 6313 Menzingen
URL:https://veranstaltungen.zug.ch/event/chilbimarkt-2021-2021-10-17
END:VEVENT
END:VCALENDAR
