BEGIN:VCALENDAR
VERSION:2.0
PRODID:-//OneGov//onegov.event//
BEGIN:VEVENT
SUMMARY:Dodo
DTSTART:20241018T180000Z
DTEND:20241018T200000Z
DTSTAMP:20240903T131159Z
UID:dodo-2024-10-18@onegov.event
CATEGORIES:Music,Concert
DESCRIPTION:Der Musiker live auf Tour!\nDodo\, der neue Gastgeber von «Si
 ng meinen Song – Das Schweizer Tauschkonzert» brennt darauf\, seine zah
 lreichen Hits live zu präsentieren\, das Publikum zum Tanzen zu bringen u
 nd gute Laune zu versprühen. Dodo ist ein Garant für «Good Vibes»\, f
 ür Mitsing-Momente\, für unvergessliche Live-Konzerte.\n\nAls Erfolgspro
 duzent hinter den preisgekrönten Alben von Stars wie Lo&Leduc\, Nemo oder
  Steff La Cheffe\, weiss Dodo genau\, was einen guten Song ausmacht. Seine
  sechs eigenen Studioalben sind allesamt vollgespickt mit Klassikern\, sei
 nen grössten Hit «Hippie-Bus» kennt die ganze Schweiz\, seine letzten A
 lben erreichten Goldstatus.\n\nDodo ist kürzlich mit seinem zu einem mobi
 len Musikstudio umgebauten Schiffscontainer von Basel via Rhein nach Afrik
 a gereist. Der Weg führte durch verschiedene Länder wie Südafrika\, Gha
 na bis hin an die Elfenbeinküste. Dabei ist nicht nur ein faszinierender 
 Kinofilm entstanden\, sondern auch das neue Album «Yopougon – Way Back 
 Home»\, welches Dodo mit verschiedenen lokalen Artists auf seiner Reise p
 roduzierte.\n\nAls selbsternannter «Minister of Good Vibes» ist es Dodo 
 ein Anliegen\, Menschen mit seinen positiven Messages und seinen unverglei
 chlichen musikalischen Klängen zu beglücken. Bei den Konzerten hat er da
 her nicht nur Songs seines neuen Albums im Gepäck\, sondern alle seine gr
 ossen Hits: «Hippie-Bus»\, «Zürimaa»\, «Brütigamm»\, «Hardbrugg»
  und viele mehr!\n\nAltersbeschränkung: Ab 16 Jahren oder in Begleitung e
 ines Erwachsenen.\n\nTüröffnung: 18.30 Uhr\n
LAST-MODIFIED:20240903T131159Z
LOCATION:Chollerhalle\, Chamerstrasse 177\, 6300 Zug
URL:https://veranstaltungen.zug.ch/event/dodo-2024-10-18
END:VEVENT
END:VCALENDAR
