BEGIN:VCALENDAR
VERSION:2.0
PRODID:-//OneGov//onegov.event//
BEGIN:VEVENT
SUMMARY:Erlebnisführung für Familien
DTSTART:20260426T120000Z
DTEND:20260426T130000Z
DTSTAMP:20251216T085957Z
UID:erlebnisfuehrung-fuer-familien-18-2026-04-26@onegov.event
CATEGORIES:Misc,Culture
DESCRIPTION:Führung mit Schauspiel: Auf einem interaktiven Rundgang Figur
 en aus vergangenen Jahrhunderten treffen und Zuger Geschichte erfrischend 
 neu erleben. \n\nWeitere Info: Museum Burg Zug\, Kirchenstrasse 11\, 6300 
 Zug
GEO:47.165091;8.51666
LAST-MODIFIED:20251216T085957Z
LOCATION:Museum Burg Zug\, Kirchenstrasse 11\, 6300  Zug
URL:https://veranstaltungen.zug.ch/event/erlebnisfuehrung-fuer-familien-18
 -2026-04-26
END:VEVENT
END:VCALENDAR
