BEGIN:VCALENDAR
VERSION:2.0
PRODID:-//OneGov//onegov.event//
BEGIN:VEVENT
SUMMARY:Eröffnung Bildungsweg Menzingen VERSCHOBEN
DTSTART:20200606T080000Z
DTEND:20200606T100000Z
DTSTAMP:20200529T073621Z
UID:eroeffnung-bildungsweg-menzingen-2020-06-06@onegov.event
CATEGORIES:Talk,Culture,Tourism,Education
DESCRIPTION:Die Gemeinde Menzingen ist eine eigentliche Bildungsgemeinde. 
 Vielen ist dies wahrscheinlich gar nicht bewusst. \nMenzingen weist beispi
 elsweise mit dem Institut\, dem Maria vom Berg\, dem Seminar Bernarda\, de
 m Lassalle-Haus\, den verschiedenen gemeindeeigenen Schulstandorten aber a
 uch mit handwerklichen und landwirtschaftlichen Ausbildungsbetrieben usw. 
 eine überdurchschnittlich hohe Dichte an – teils ehemaligen – Ausbild
 ungsstätten auf. \nDie Einwohnergemeinde Menzingen hat - dank Beiträgen 
 vom Institut Menzingen\, der Bürgergemeinde Menzingen\, der röm.-kath. K
 irchgemeinde Menzingen\, der Stadt Zug sowie einem Kulturbeitrag des Kanto
 ns Zug - unter der Federführung von Frau Dr. Brigitte Moser einen Bildung
 sweg geschaffen. An 9 Standorten im Dorfbereich und 3 Standorten ausserhal
 b des Siedlungsgebietes treffen Sie pro Standort eine Stele mit vielen Inf
 ormationen mit geschichtlichem Hintergrund und der aktuellen Situation des
  Gebäudes\, gespickt mit historischem Bildmaterial zum jeweiligen Objekt 
 an. Auch eine Broschüre zum Bildungsweg wird herausgegeben. \n\nZur offiz
 iellen Eröffnung inkl. Apéro sind Sie herzlich eingeladen. 
GEO:47.17803904216268;8.589688481495289
LAST-MODIFIED:20200529T073621Z
LOCATION:Alte Landstrasse 2a\, Rathaus\, 6313 Menzingen und Umgebung
URL:https://veranstaltungen.zug.ch/event/eroeffnung-bildungsweg-menzingen-
 2020-06-06
END:VEVENT
END:VCALENDAR
