BEGIN:VCALENDAR
VERSION:2.0
PRODID:-//OneGov//onegov.event//
BEGIN:VEVENT
SUMMARY:Jahreskonzert Dorfspatzen Oberägeri
DTSTART:20260502T180000Z
DTEND:20260502T203000Z
DTSTAMP:20260323T073536Z
UID:jahreskonzert-dorfspatzen-oberaegeri-2026-05-02@onegov.event
CATEGORIES:Music,Concert,Culture
DESCRIPTION:Zu unserem Jahreskonzert laden wir Sie herzlich in die Maienma
 tt in Oberägeri ein. Markus Steimen und seine Dorfspatzen präsentieren I
 hnen mit dem Motto «Unter Verdacht - die Akte Dorfspatzen» ein spannende
 s und abwechslungsreiches Programm. Geniessen Sie einen Abend mit feinster
  Blasmusik. Wir empfehlen Ihnen\, am Konzertabend Ihre eigenen Ermittlunge
 n aufzunehmen\, bevor Sie allenfalls selbst unter Verdacht geraten.\nIhre 
 Plätze können Sie ab 2. April 2026 um 12.00 Uhr bequem und rund um die U
 hr online auf www.dortspatzen.ch reservieren. Am Konzertabend besteht die 
 Möglichkeit\, ab 18.30 Uhr mit einem feinen Abendessen aus unserer Festwi
 rtschaft genussvoll in den Abend zu starten.\nWir freuen uns darauf\, Sie 
 an unserem Jahreskonzert mit bester Unterhaltungsmusik zu verwöhnen.
LAST-MODIFIED:20260323T073536Z
LOCATION:Maienmatt\, Oberägeri
URL:https://veranstaltungen.zug.ch/event/jahreskonzert-dorfspatzen-oberaeg
 eri-2026-05-02
END:VEVENT
END:VCALENDAR
